BEGIN:VCALENDAR
VERSION:2.0
PRODID:-//wp-events-plugin.com//7.2.3.1//EN
TZID:America/Vancouver
X-WR-TIMEZONE:America/Vancouver
BEGIN:VEVENT
UID:101@torca.ca
DTSTART;TZID=America/Vancouver:20240515T160000
DTEND;TZID=America/Vancouver:20240515T173000
DTSTAMP:20240515T153816Z
URL:https://torca.ca/youth-events/youth-ride-beginner-3/
SUMMARY:Youth Ride (Beginner)
DESCRIPTION:Beginner Youth Ride\n\nWhen: Wednesday May 15th from 4:00pm-5:3
 0pm\n\nWhere: Bert Flinn Park\, Port Moody (meet at the yellow gate by tra
 ffic circle: https://torca.ca/locations/bert-flinn-park-yellow-gate/)\n\nW
 ho: Beginner level riders 9-15 years old.\n\nBeginner level riders are com
 fortable riding off road on green/blue level trails at Bert Flinn Park. Co
 mfortable on straight/bumpy trail. Getting comfortable riding bridges\, ro
 lls and root sections. Trails could include: Jo Jo Flinn's\, Mama Bear\, t
 he Fin-nish Line.\n\nRegistration: Registration is required.  Total group
  size will be limited to 8 riders (plus lead and sweep). A TORCA Liability
  Waiver will be required for insurance purposes and it needs to be complet
 ed at time of registration.  TORCA Membership can also be purchased durin
 g registration (but is not mandatory).\n\nBring: Mountain bike in good wor
 king condition (minimum front suspension recommended)\, comfortable\, weat
 her-appropriate clothing\, multi-tool\, mini-pump\, spare tube that fits y
 our bike\, tire levers\, snack\, water and a mask. Rider should be able to
  carry all of these items with them on the ride (we may not be returning t
 o start/finish location until the end). If access to any of these items is
  an issue\, please let us know and we will see what we can do to help!\n\n
 Prior to the ride\, please ensure that your childs mountain bike is in goo
 d working order.\n\nCheck list:\n\n 	Front and back brakes work\n 	Gears c
 an shift\n 	Tires are pumped\n 	All parts are secure (ie. pedals\, stem\, 
 bottle cages)\n\nIf you have any questions or concerns\, bring the bike to
  one of the great local bike shops in the Tri-Cities for a tune up!\n\nPro
 vided: Guided group rides.  Two ride leads will be present for each sessi
 on (at least one will have first aid training).\n\nIf you have any questio
 ns\, email kaelen@torca.ca
END:VEVENT
BEGIN:VTIMEZONE
TZID:America/Vancouver
X-LIC-LOCATION:America/Vancouver
BEGIN:DAYLIGHT
DTSTART:20240310T030000
TZOFFSETFROM:-0800
TZOFFSETTO:-0700
TZNAME:PDT
END:DAYLIGHT
END:VTIMEZONE
END:VCALENDAR